Workbook

Sheet Juhend
A1: Juhised finantsanalüüsi tabelite täitmiseks
A3: Üldine | B3: Finantsanalüüsi tabelid täita vastavalt iga tabeli juhendile (vt allpool). Üldreegel - töölehtedel tuleb täita valged lahtrid, värvilisi lahtreid mitte muuta - need on valemitega seotud.
B4: Summade täitmise aluseks on Maksu- ja Tolliameti andmed käibemaksukohustuslase staatuse kohta.
B5: Lisada selgitused tulude-kulude sisu/arvestuskäigu/hindade/maksumuse aluseks oleva info jne kohta tabelite alla teksti lahtrisse. NB! Oluline. Vajadusel venitada rida laiemaks.
B6: Tulude prognooside töölehtedel saab grupeeritud ridu ja veerge avada ja sulgeda + ja - märgile vajutades (tabeli vasakul servas ja ülaservas)
B7: Mittevajalikke ridu soovitame mitte kustutada, kuna tabelid on omavahel valemitega seotud. Uusi ridasid saab lisada - sel juhul kontrollida üle tabeli summade valemid.
A9: Tabel 1. Projekti info | B9: Täitke andmed ettevõtte ja projekti kohta
B10: Sisestage käesoleva projekti raames tehtavate kulude nimetused ja summad aastate kaupa
A12: Maksumäärad abileht | B12: Algtabel on koostatud 2024 aastal. Kontrollige Maksu- ja Tolliameti lehe alusel tabelis toodud sotsiaal- ja töötuskindlustusmakse maksumäärad aastate lõikes üle.
A14: Tabel 2. Ettevõtte tulude prognoos | B14: Sisestage tabelisse kogu ettevõtte tegevusest tulenevad tulud st kaupade/toodete/teenuste nimetused, ühikud (tonn, kg, liiter, tk vm), ühikuhinnad ja kogused aastas. Tabel arvestab tulud ise automaatselt kokku.
B15: Tulude all mitte kajastada kapitali sissemakseid, laene, liisinguid, käesoleva projekti toetust. Need sisestada rahavoogude lehe tabelis.
B16: Otse- ja pindalatoetused kajastada muu tulu ridadel koondsummadena - vähemalt maa ja loomade eest eraldi (näiteks otsetoetused 100 ha põllumaa eest jne).
A17: Tabel 3. Ettevõtte kulude prognoos | B17: Sisestage tabelisse tööjõukulude osas ametikohtade nimetused ja brutotöötasud aastas. Tööandja maksud arvestab tabel ise.
B18: Sisestage tabelis kogu ettevõtte tootmisega ja tegevusega seotud kulud (va palgakulud). Tootmiskulude alla näiteks ostetud kaubad ja materjalid, tootmisega seotud masinate rent, masinate hooldus, kütus, maaga seotud kulud jne. Tegevuskulude alla näiteks sisseostetud raamatupidamisteenus, turunduskulud, koolitused, kontoriga seotud kulud sh rent, kommunaal, sidekulud, IT teenused jne. Muude kulude alla tootmise ja tegevusega otseselt mitte seotud kulud (näiteks trahvid, viivised, kulud varade mahakandmisest jne). Kulude tabelisse mitte lisada projekti raames tehtavaid kulusid.
B19: Vajadusel lisage kululiikide ridu (ja kontrollige summavalemid üle).
A21: Tabel 4. Rahavood | B21: Rahavoogude tabelisse kanduvad üle tulude ja kulude prognoositud summad ning projekti kulud. Sisestada 01.01 seisuga raha (kassa+pank) algjääk.
B22: Lisage sissetulekute alla raha laekumised (sh omakapitali ja omanike sissemaksed, käesoleva projekti toetussummad, laenud, liisingud, muud toetused jne).
B23: Lisage väljaminekute alla raha väljaminekud (sh laenude ja liisingute tagasimaksed, intressikulud, väljamaksed omanikele jne).
B24: Mõiste: Tulude-kulude vahe EBIT (Earnings Before Interest and Taxes) • EBIT näitab ettevõtte ärikasumit enne põhivara amortisatsiooni, intresside ja maksude mahaarvamist.
B25: Mõiste: Sissetuleva-väljamineva raha vahe ehk Netorahavoog (Net Cash Flow) • Arvutatakse, lahutades kogu raha väljaminekud kogu raha sissetulekutest. • Positiivne netorahavoog tähendab, et ettevõttel on rohkem raha laekunud kui kulutatud, samas kui negatiivne netorahavoog viitab vastupidisele.

Sheet 1. Projekti info
A1: INVESTEERIMISPROJEKTI INFO
A2: Taotleja nimi:
A3: Taotleja registrikood:
A4: Projekti eesmärk:
A5: Taotletav toetuse summa:
A7: PROJEKTI RAAMES TEHTAVAD KULUD | C7: Ühik | D7: 2025 | E7: =D7+1 -> 2026 | F7: =E7+1 -> 2027 | G7: =F7+1 -> 2028 | H7: =G7+1 -> 2029 | I7: KOKKU
A8: Tegevuse nimetus | C8: Eur | I8: =SUM(D8:H8) -> 0
A9: Tegevuse nimetus | C9: Eur | I9: =SUM(D9:H9) -> 0
A10: Tegevuse nimetus | C10: Eur | I10: =SUM(D10:H10) -> 0
A11: Tegevuse nimetus | C11: Eur | I11: =SUM(D11:H11) -> 0
A12: Tegevuse nimetus | C12: Eur | I12: =SUM(D12:H12) -> 0
A13: Tegevuse nimetus | C13: Eur | I13: =SUM(D13:H13) -> 0
A14: Tegevuse nimetus | C14: Eur | I14: =SUM(D14:H14) -> 0
A15: Tegevuse nimetus | C15: Eur | I15: =SUM(D15:H15) -> 0
A16: PROJEKTI KULUD KOKKU | C16: Eur | D16: =SUM(D8:D15) -> 0 | E16: =SUM(E8:E15) -> 0 | F16: =SUM(F8:F15) -> 0 | G16: =SUM(G8:G15) -> 0 | H16: =SUM(H8:H15) -> 0 | I16: =SUM(I8:I15) -> 0

Sheet 2. Tulude prognoos
A1: Ettevõtte tulude prognoos
C2: Ühik | D2: 2026 | E2: =D2+1 -> 2027 | F2: =E2+1 -> 2028 | G2: =F2+1 -> 2029 | H2: =G2+1 -> 2030
A4: Nimetus | B4: Kogus
B5: Hind | C5: Eur
B6: Müügitulu | C6: Eur | D6: =D4*D5 -> 0 | E6: =E4*E5 -> 0 | F6: =F4*F5 -> 0 | G6: =G4*G5 -> 0 | H6: =H4*H5 -> 0
A8: Nimetus | B8: Kogus
B9: Hind | C9: Eur
B10: Müügitulu | C10: Eur | D10: =D8*D9 -> 0 | E10: =E8*E9 -> 0 | F10: =F8*F9 -> 0 | G10: =G8*G9 -> 0 | H10: =H8*H9 -> 0
A12: Nimetus | B12: Kogus
B13: Hind | C13: Eur
B14: Müügitulu | C14: Eur | D14: =D12*D13 -> 0 | E14: =E12*E13 -> 0 | F14: =F12*F13 -> 0 | G14: =G12*G13 -> 0 | H14: =H12*H13 -> 0
A16: Nimetus | B16: Kogus
B17: Hind | C17: Eur
B18: Müügitulu | C18: Eur | D18: =D16*D17 -> 0 | E18: =E16*E17 -> 0 | F18: =F16*F17 -> 0 | G18: =G16*G17 -> 0 | H18: =H16*H17 -> 0
A20: Nimetus | B20: Kogus
B21: Hind | C21: Eur
B22: Müügitulu | C22: Eur | D22: =D20*D21 -> 0 | E22: =E20*E21 -> 0 | F22: =F20*F21 -> 0 | G22: =G20*G21 -> 0 | H22: =H20*H21 -> 0
A24: Nimetus | B24: Kogus
B25: Hind | C25: Eur
B26: Müügitulu | C26: Eur | D26: =D24*D25 -> 0 | E26: =E24*E25 -> 0 | F26: =F24*F25 -> 0 | G26: =G24*G25 -> 0 | H26: =H24*H25 -> 0
A28: Nimetus | B28: Kogus
B29: Hind | C29: Eur
B30: Müügitulu | C30: Eur | D30: =D28*D29 -> 0 | E30: =E28*E29 -> 0 | F30: =F28*F29 -> 0 | G30: =G28*G29 -> 0 | H30: =H28*H29 -> 0
A32: Nimetus | B32: Kogus
B33: Hind | C33: Eur
B34: Müügitulu | C34: Eur | D34: =D32*D33 -> 0 | E34: =E32*E33 -> 0 | F34: =F32*F33 -> 0 | G34: =G32*G33 -> 0 | H34: =H32*H33 -> 0
A36: Nimetus | B36: Kogus
B37: Hind | C37: Eur
B38: Müügitulu | C38: Eur | D38: =D36*D37 -> 0 | E38: =E36*E37 -> 0 | F38: =F36*F37 -> 0 | G38: =G36*G37 -> 0 | H38: =H36*H37 -> 0
A40: Nimetus | B40: Kogus
B41: Hind | C41: Eur
B42: Müügitulu | C42: Eur | D42: =D40*D41 -> 0 | E42: =E40*E41 -> 0 | F42: =F40*F41 -> 0 | G42: =G40*G41 -> 0 | H42: =H40*H41 -> 0
A44: Muu tulu (nimetage sh pindala- ja otsetoetused) | C44: Eur
A45: Muu tulu (nimetage sh pindala- ja otsetoetused) | C45: Eur
A46: Muu tulu (nimetage sh pindala- ja otsetoetused) | C46: Eur
A47: Muu tulu (nimetage sh pindala- ja otsetoetused) | C47: Eur
A48: Muu tulu (nimetage sh pindala- ja otsetoetused) | C48: Eur
A49: TULUD KOKKU | C49: Eur | D49: =D6+D10+D14+D18+D22+D26+D30+D34+D38+D42+D44+D45+D46+D47+D48 -> 0 | E49: =E6+E10+E14+E18+E22+E26+E30+E34+E38+E42+E44+E45+E46+E47+E48 -> 0 | F49: =F6+F10+F14+F18+F22+F26+F30+F34+F38+F42+F44+F45+F46+F47+F48 -> 0 | G49: =G6+G10+G14+G18+G22+G26+G30+G34+G38+G42+G44+G45+G46+G47+G48 -> 0 | H49: =H6+H10+H14+H18+H22+H26+H30+H34+H38+H42+H44+H45+H46+H47+H48 -> 0
A51: Tulude tekkimise selgitused-täpsustused (tulude tekkimise eeldused - näiteks kasutatava maa hulk ja liigid otsetoetuse saamisel või toodangu-taimede müügil millal kui pikk ettevalmistus- või kasvatusperiood, millal tekib esimene müük jne, müügitulu tekkimise periood - kas aastaringselt igas kuus-kogus kuus või hooajal (millal, kogus kuus/hooajal)taimede/toodangu liikide kaupa, millel põhineb toodud ühikuhind (viide hinnakirjale, turuhinnale vm) jne):

Sheet Maksumäärad
A1: Brutopalgale lisanduvate tööjõumaksude määrad
B2: 2026 | C2: =B2+1 -> 2027 | D2: =C2+1 -> 2028 | E2: =D2+1 -> 2029 | F2: =E2+1 -> 2030 | G2: =F2+1 -> 2031
A3: Sotsiaalmaksu määr | B3: 0.33 | C3: 0.33 | D3: 0.33 | E3: 0.33 | F3: 0.33 | G3: 0.33
A4: Tööandjapoolne töötuskindlustusmakse määr | B4: 0.008 | C4: 0.008 | D4: 0.008 | E4: 0.008 | F4: 0.008 | G4: 0.008
A5: Maksumäärad kokku | B5: =SUM(B3:B4) -> 0.338 | C5: =SUM(C3:C4) -> 0.338 | D5: =SUM(D3:D4) -> 0.338 | E5: =SUM(E3:E4) -> 0.338 | F5: =SUM(F3:F4) -> 0.338 | G5: =SUM(G3:G4) -> 0.338

Sheet 3. Kulude prognoos
A1: Ettevõtte kulude prognoos
C2: Ühik | D2: 2026 | E2: =D2+1 -> 2027 | F2: =E2+1 -> 2028 | G2: =F2+1 -> 2029 | H2: =G2+1 -> 2030
A4: Tööjõukulud | B4: Juhataja | C4: Eur
B5: Töötaja (nimetage ametikoht) | C5: Eur
B6: Töötaja (nimetage ametikoht) | C6: Eur
B7: Töötaja (nimetage ametikoht) | C7: Eur
B8: Töötaja (nimetage ametikoht) | C8: Eur
B9: Töötaja (nimetage ametikoht) | C9: Eur
B10: Töötaja (nimetage ametikoht) | C10: Eur
B11: Töötaja (nimetage ametikoht) | C11: Eur
B12: Töötaja (nimetage ametikoht) | C12: Eur
B13: Töötaja (nimetage ametikoht) | C13: Eur
B14: Töötaja (nimetage ametikoht) | C14: Eur
B15: Töötaja (nimetage ametikoht) | C15: Eur
B16: Töötaja (nimetage ametikoht) | C16: Eur
... B18: Töötaja (nimetage ametikoht) | C18: Eur
B19: Brutotasud kokku | C19: Eur | E19: =SUM(E4:E18) -> 0 | F19: =SUM(F4:F18) -> 0 | G19: =SUM(G4:G18) -> 0 | H19: =SUM(H4:H18) -> 0
B20: Sotsiaal- ja tk.m | E20: =E19*Maksumäärad!C5 -> 0 | F20: =F19*Maksumäärad!D5 -> 0 | G20: =G19*Maksumäärad!E5 -> 0 | H20: =H19*Maksumäärad!F5 -> 0
A21: Tööjõukulud kokku | D21: =SUM(D19:D20) -> 0 | E21: =SUM(E19:E20) -> 0 | F21: =SUM(F19:F20) -> 0 | G21: =SUM(G19:G20) -> 0 | H21: =SUM(H19:H20) -> 0
A23: Tootmisega seotud kulud (näiteks ostetud kaubad ja materjalid, tootmisega seotud masinate rent, masinate hooldus, kütus, maaga seotud kulud jne). | B23: Nimetage | C23: Eur
B24: Nimetage | C24: Eur
B25: Nimetage | C25: Eur
B26: Nimetage | C26: Eur
B27: Nimetage | C27: Eur
B28: Nimetage | C28: Eur
B29: Nimetage | C29: Eur
B30: Nimetage | C30: Eur
B31: Nimetage | C31: Eur
B32: Jne | C32: Eur
A33: Tootmisega seotud kulud kokku | D33: =SUM(D23:D32) -> 0 | E33: =SUM(E23:E32) -> 0 | F33: =SUM(F23:F32) -> 0 | G33: =SUM(G23:G32) -> 0 | H33: =SUM(H23:H32) -> 0
A35: Tegevusega seotud kulud (näiteks raamatupidamis-teenus, turunduskulud, koolitused, kontorikulud sh rent, kommunaal, sidekulud, IT teenused jne). | B35: Nimetage | C35: Eur
B36: Nimetage | C36: Eur
B37: Nimetage | C37: Eur
B38: Nimetage | C38: Eur
B39: Nimetage | C39: Eur
B40: Nimetage | C40: Eur
B41: Nimetage | C41: Eur
B42: Nimetage | C42: Eur
B43: Nimetage
B44: Nimetage | C44: Eur
...

Sheet 4. Rahavood 
A1: Rahavood tulude-kulude alusel
A2: RAHA SISSETULEKUD | B2: Ühik | C2: 2026 | D2: =C2+1 -> 2027 | E2: =D2+1 -> 2028 | F2: =E2+1 -> 2029 | G2: =F2+1 -> 2030
A3: Raha algjääk 01.01.2024 (Kassa+pank) | B3: Eur | D3: x | E3: x | F3: x | G3: x
A4: Käesoleva projekti toetuse laekumine
A5: Toodete/teenuste müük | B5: Eur | C5: ='2. Tulude prognoos'!D49 -> 0 | D5: ='2. Tulude prognoos'!E49 -> 0 | E5: ='2. Tulude prognoos'!F49 -> 0 | F5: ='2. Tulude prognoos'!G49 -> 0 | G5: ='2. Tulude prognoos'!H49 -> 0
A6: Omanike sissemaksed | B6: Eur
A7: Laenud | B7: Eur
A8: Liisingud | B8: Eur
A9: Muu toetus, sissemakse (nimetage) | B9: Eur
A10: Muu toetus, sissemakse (nimetage) | B10: Eur
A11: SISSETULEKUD KOKKU: | B11: Eur | C11: =SUM(C3:C10) -> 0 | D11: =SUM(D3:D10) -> 0 | E11: =SUM(E3:E10) -> 0 | F11: =SUM(F3:F10) -> 0 | G11: =SUM(G3:G10) -> 0
A13: RAHA VÄLJAMINEKUD | B13: Ühik | C13: =C2 -> 2026 | D13: =C13+1 -> 2027 | E13: =D13+1 -> 2028 | F13: =E13+1 -> 2029 | G13: =F13+1 -> 2030
A14: Käesoleva projekti kulud | B14: Eur | C14: ='1. Projekti info'!D16 -> 0 | D14: ='1. Projekti info'!E16 -> 0 | E14: ='1. Projekti info'!F16 -> 0 | F14: ='1. Projekti info'!G16 -> 0 | G14: ='1. Projekti info'!H16 -> 0
A15: Tegevusega seotud kulud | B15: Eur | C15: ='3. Kulude prognoos'!D60 -> 0 | D15: ='3. Kulude prognoos'!E60 -> 0 | E15: ='3. Kulude prognoos'!F60 -> 0 | F15: ='3. Kulude prognoos'!G60 -> 0 | G15: ='3. Kulude prognoos'!H60 -> 0
A16: Liisingute põhiosa tagasimaksed | B16: Eur
A17: Laenude põhiosa tagasimaksed
A18: Laenu/liisingu intressikulud aastas | B18: Eur
A19: Muud väljamaksed (nimetage) | B19: Eur
A20: Muud väljamaksed (nimetage)
A21: Muud väljamaksed (nimetage) | B21: Eur
A22: VÄLJAMINEKUD KOKKU: | B22: Eur | C22: =SUM(C14:C21) -> 0 | D22: =SUM(D14:D21) -> 0 | E22: =SUM(E14:E21) -> 0 | F22: =SUM(F14:F21) -> 0 | G22: =SUM(G14:G21) -> 0
A23: Tulude ja kulude vahe (EBIT) | B23: Eur | C23: =C5-C15 -> 0 | D23: =D5-D15 -> 0 | E23: =E5-E15 -> 0 | F23: =F5-F15 -> 0 | G23: =G5-G15 -> 0
A24: Sissetuleva - väljamineva raha vahe (NETO RAHAVOOG) | B24: Eur | C24: =C11-C22 -> 0 | D24: =D11-D22 -> 0 | E24: =E11-E22 -> 0 | F24: =F11-F22 -> 0 | G24: =G11-G22 -> 0
A25: Raha jääk kasvavalt | B25: Eur | C25: =C24 -> 0 | D25: =C25+D24 -> 0 | E25: =D25+E24 -> 0 | F25: =E25+F24 -> 0 | G25: =F25+G24 -> 0
